BEGIN:VCALENDAR
VERSION:2.0
PRODID:-//wp-events-plugin.com//7.2.3.1//EN
TZID:Europe/Zurich
X-WR-TIMEZONE:Europe/Zurich
BEGIN:VEVENT
UID:1470@ktv-concordia.ch
DTSTART;TZID=Europe/Zurich:20151127T181500
DTEND;TZID=Europe/Zurich:20151127T233000
DTSTAMP:20151123T095839Z
URL:https://www.ktv-concordia.ch/events/kanti-cup/
SUMMARY:Kanti-Cup 2015 by Concordia
DESCRIPTION:Geschätzte Fussballfreunde!\n\nHerzlich Willkommen zu unserem 
 diesjährigen Kanti-Cup. Ihr könnt euch auf ein spannendes Hallenfussball
 turnier freuen\, organisiert durch den KTV Concordia.\n\nAnmeldungen erfol
 gen bitte bis zum 26.11.2015 in Papierform (mit beigelegtem Anmeldeformul
 ar ins Klassenfach 3ha) oder per E-Mail an info@ktv-concordia.ch.\n\nFolg
 ende Informationen müssen auf der Anmeldung vermerkt sein:\n\n	Teamname\n
 	Teamchef: Vor- und Nachname\, E-Mail-Adresse\, Klasse\n	Sämtliche Mitgli
 eder: Vor- und Nachnamen\, Klassen\n\nSollte eine Mannschaft nicht antrete
 n können\, seid Ihr gebeten\, dies so schnell als möglich an die Spielle
 itung zu melden (SMS/WhatsApp an 076 448 03 23).\n\nOrganisatorische Hinwe
 ise\n\nDas Turnier findet in der Halle der Kantonsschule Frauenfeld am Fre
 itag\, dem 27.11.2015 statt. Die Anlagen werden von der Schule zur Verfüg
 ung gestellt\, darum bitten wir Euch\, sorgfältig damit umzugehen.\n\nPro
 grammübersicht\n\n\n\nDatum\nFreitag\, 27.11.2015\n\n\nAnpfiff\n18:15 Uhr
  (Hallen 4/5 der Kantonsschule Frauenfeld)\n\n\nAbpfiff\nca. 20:15 Uhr\n\n
 \nPreisübergabe\n21:00 Uhr im Keller des KTV Concordia (Freie Strasse 27\
 , 8500 Frauenfeld)\n\n\nAbendprogramm\nbis 23:30 Uhr im Keller des KTV Con
 cordia (Freie Strasse 27\, 8500 Frauenfeld)\n\n\n\nVerpflegung\n\nWährend
  des Turniers offerieren wir den Teilnehmenden Getränke und Snacks. Zudem
  werden ab 21:00 Uhr im Keller des KTV Concordia Pizzen serviert.\n\nBäll
 e\n\nEs werden Hallenbälle der Kantonsschule benutzt (keine Filzbälle).\
 n\nSpielreglement\n\n	 Spielregeln\n\nEs gilt das Wettspielreglement des S
 FV mit Ausnahme der Abseitsregel und Rückpassregel. Zu beachten ist die 6
 -Sekunden-Regel für den Torwart (Zeitspiel wird mit Wechsel des Ballbesit
 zes geahndet). Tore\, die von weiblichen Teammitglieder erzielt werden\, z
 ählen doppelt.\n\n	Anzahl Spieler\n\nDas Spiel wird mit 4 Feldspielern un
 d einem Torwart gespielt. Spielerwechsel erfolgen per Handschlag an der Au
 swechselbank. Torwartwechsel müssen dem Schiedsrichter kommuniziert werde
 n.\n\n	Spieldauer\n\nEin Spiel dauert 12 Minuten ohne Seitenwechsel. In de
 r K.O.-Runde erfolgt bei Unentschieden ein Elfmeterschiessen (zuerst werde
 n drei Elfmeter ausgeführt\; ist bis dahin noch keine Entscheidung gefall
 en\, wird abwechselnd ein Elfmeter gewertet).\n\n	Schuhwerk\n\nEs sind nur
  Hallenschuhe erlaubt. Schienbeinschoner sind nicht obligatorisch\, werde
 n aber empfohlen.\n\n	Fair-Play\n\nWir legen grossen Wert auf das Fair-Pla
 y und honorieren dieses.\n\n	Versicherung\n\nDie Teilnehmenden sind nicht 
 gegen Unfälle versichert. Sie bestreiten das Turnier auf eigene Gefahr un
 d Verantwortung.\n\n	Punktewertung\n\n\n\n\nSieg\n3 Punkte\n\n\nUnentschie
 den\n1 Punkt\n\n\nNiederlage\n0 Punkte\n\n\nPunktegleichheit\nBei Punktegl
 eichheit in der Gruppenphase entscheiden zuerst die Direktbegegnung\, dann
  Tordifferenz\, danach ein Elfmeterschiessen\n\n\nModus\nPro Gruppe kommen
  jeweils die erst- und zweitplatzierten Mannschaften weiter in die K.O.-Ru
 nde. Die zwei Sieger der K.O.-Runde spielen in den Viertelfinals. Die Sieg
 er der Viertelfinals spielen in den Halbfinals um den Einzug in die Finals
 piele. Hier spielen die Sieger um die Ränge 1 und 2 (grosser Final)\, die
  Verlierer um die Ränge 3 und 4 (kleiner Final).\n\n\n\n\n	Strafen\n\nEin
  Spieler darf nach einem Platzverweis erst im nächsten Spiel wieder einge
 setzt werden. Die Turnierleitung und der Schiedsrichter haben die Möglich
 keit\, Spieler\, die unfair oder unsportlich auftreten\, vom Turnier auszu
 schliessen. Das Spiel gilt bei Nichtantreten oder verspätetem Antreten al
 s verloren (0:3 Forfait).\n\n	 Preise\n\nEs gibt Preise für die erstplatz
 ierten Mannschaften und das fairste Team des Turniers:\n\n\n\n1. Platz\nKa
 nti-Cup-Pokal und Gutschein\n\n\n2. Platz\nGutschein\n\n\n3. Platz\nGutsch
 ein\n\n\nFairness-Preis\nGutschein\n\n\n\n\n	 Spielleitung\n\nEntscheide d
 er Spielleitung sind endgültig und können nicht angefochten werden. Bei 
 Unklarheiten im Reglement entscheidet die Spielleitung. Sie agiert omnipot
 ent.\n\n \n\n[foogallery id="3846"]
ATTACH;FMTTYPE=image/jpeg:https://www.ktv-concordia.ch/wp-content/uploads/
 2015/10/UCL.jpg
CATEGORIES:Aktivitas
LOCATION:Kantonsschule Frauenfeld\, Ringstrasse 10\, Frauenfeld\, 8500\, Sc
 hweiz
GEO:47.5551991;8.90311440000005
X-APPLE-STRUCTURED-LOCATION;VALUE=URI;X-ADDRESS=Ringstrasse 10\, Frauenfeld
 \, 8500\, Schweiz;X-APPLE-RADIUS=100;X-TITLE=Kantonsschule Frauenfeld:geo:
 47.5551991,8.90311440000005
END:VEVENT
BEGIN:VTIMEZONE
TZID:Europe/Zurich
X-LIC-LOCATION:Europe/Zurich
BEGIN:STANDARD
DTSTART:20151025T020000
TZOFFSETFROM:+0200
TZOFFSETTO:+0100
TZNAME:CET
END:STANDARD
END:VTIMEZONE
END:VCALENDAR